BEGIN:VCALENDAR
VERSION:2.0
PRODID:-//Library Market//iCal Export//EN
BEGIN:VEVENT
SUMMARY:Video Game Tournament
UID:9714
DTSTAMP:20260426T025400Z
DTSTART:20260708T190000Z
DTEND:20260708T200000Z
LOCATION:Pelham Public Library, 2000 Pelham Park Blvd, Pelham, AL 35124, U
 nited States
ROOM: MakerSpace
DESCRIPTION:Gr 6-12. Video game tournament.
URL:https://pelham.librarycalendar.com/event/video-game-tournament-9714
END:VEVENT
END:VCALENDAR
