BEGIN:VCALENDAR
VERSION:2.0
PRODID:-//Library Market//iCal Export//EN
BEGIN:VEVENT
SUMMARY:Architecture of Bones for Teens &amp; Tweens
UID:9698
DTSTAMP:20260423T031200Z
DTSTART:20260610T190000Z
DTEND:20260610T200000Z
LOCATION:Pelham Public Library, 2000 Pelham Park Blvd, Pelham, AL 35124, U
 nited States
ROOM: MakerSpace
DESCRIPTION:Gr 6-12. Dr. Willis will tell participants about how caring fo
 r your bones now ensures you will have healthy bones later in life. Regist
 ration required.
URL:https://pelham.librarycalendar.com/index.php/event/architecture-bones-
 teens-tweens-9698
END:VEVENT
END:VCALENDAR
